BEGIN:VCALENDAR
VERSION:2.0
PRODID:-//Volt Europa//Events//EN
CALSCALE:GREGORIAN
METHOD:PUBLISH
BEGIN:VEVENT
UID:tagderarbeit-hannover-010526-1777620600@voltdeutschland.org
DTSTAMP:20260424T230942Z
DTSTART;TZID=Europe/Berlin:20260501T093000
DTEND;TZID=Europe/Berlin:20260501T150000
SUMMARY:Tag der Arbeit Demozug und Infostand Hannover
DESCRIPTION:Tag der Arbeit\, Maifeiertag\, Kampftag der Arbeiter: Am 1. Mai
  2025 ruft der Deutsche Gewerkschaftsbund und seine Mitgliedsgewerkschaften
 \, zu bundesweiten Kundgebungen  auf. Unter dem Motto  “Mach dich stark 
 mit uns!”  gehen auch wir am 1. Mai 2025 auf die Straße\, um unsere Stim
 me für eine gerechte Arbeitswelt zu erheben. Volt ist beim Demozug und der
  anschließenden Kundgebung auf der Goseriede in Hannover präsent. Demozug
  9:30 Uhr Freizeitheim Linden Infostand/Kundgebung 11:00 - 15:00 Uhr Goseri
LOCATION:Goseriede\, 30159 Hanover
URL:https://voltdeutschland.org/niedersachsen/veranstaltungen/tagderarbeit-
 hannover-010526
END:VEVENT
END:VCALENDAR
