BEGIN:VCALENDAR
VERSION:2.0
PRODID:-//Volt Europa//Events//EN
CALSCALE:GREGORIAN
METHOD:PUBLISH
BEGIN:VEVENT
UID:meet-greet-wolfsburg-070626-1780833600@voltdeutschland.org
DTSTAMP:20260421T101521Z
DTSTART;TZID=Europe/Berlin:20260607T140000
DTEND;TZID=Europe/Berlin:20260607T160000
SUMMARY:Meet & Greet Wolfsburg
DESCRIPTION:Hast auch du Lust politisch aktiv zu werden? Oder bist du einfa
 ch neugierig\, ob Politik überhaupt etwas für dich ist? Dann komm doch ei
 nfach zu einem unserer Team-Treffen und lern das Team aus Wolfsburg kennen!
  Du kannst außerdem unserer WhatsApp Gruppe beitreten\, um immer auf dem n
 eusten Stand zu bleiben (dort informieren wir auch\, falls mal ein Treffen 
 ausfallen sollte). Klicke einfach auf diesen Link\, um der Gruppe beizutret
 en:  Volt Wolfsburg WhatsApp Gruppe Oder folge uns auf  Instagram  & 
LOCATION:Amsel Kaffee\, Amselweg 51\, 38446 Wolfsburg
URL:https://voltdeutschland.org/niedersachsen/veranstaltungen/meet-greet-wo
 lfsburg-070626
END:VEVENT
END:VCALENDAR
