BEGIN:VCALENDAR
VERSION:2.0
PRODID:-//Volt Europa//Events//EN
CALSCALE:GREGORIAN
METHOD:PUBLISH
BEGIN:VEVENT
UID:meet-greet-lueneburg-52326-1779538500@voltdeutschland.org
DTSTAMP:20260421T234654Z
DTSTART;TZID=Europe/Berlin:20260523T141500
DTEND;TZID=Europe/Berlin:20260523T160000
SUMMARY:Meet & Greet Lüneburg
DESCRIPTION:Du willst Volt kennenlernen? Du möchtest über aktuelle (lokal
 -)politische Themen diskutieren? Du willst wissen\, wie wir uns auf die Kom
 munalwahl vorbereiten? Du überlegst selbst politisch aktiv zu werden? Oder
  Du bist Volunteer oder Mitglied bei uns und möchtest mal wieder vorbeisch
 auen? Dann komm zu unserem nächsten Meet & Greet. Zwischen 14:15 und 16:00
  Uhr treffen wir uns im Café im Glockenhof zum lockeren Austausch – vorh
 er kannst Du uns in der großen Bäckerstraße an unserem Stand besuchen. 
LOCATION:Café im Glockenhof\, Große Bäckerstr. 17a\, 21335 Lüneburg
URL:https://voltdeutschland.org/niedersachsen/veranstaltungen/meet-greet-lu
 eneburg-52326
END:VEVENT
END:VCALENDAR
