BEGIN:VCALENDAR
VERSION:2.0
PRODID:-//Volt Europa//Events//EN
CALSCALE:GREGORIAN
METHOD:PUBLISH
BEGIN:VEVENT
UID:meet-greet-hildesheim-1768932000@voltdeutschland.org
DTSTAMP:20260423T053326Z
DTSTART;TZID=Europe/Berlin:20260120T190000
DTEND;TZID=Europe/Berlin:20260120T220000
SUMMARY:Meet & Greet Hildesheim
DESCRIPTION:Um 19 Uhr treffen wir uns im Amadeus am Platz An der Lilie. Kom
 mt gerne vorbei und lernt uns und Volt kennen. Wir freuen uns auf euch!
LOCATION:Amadeus Café & Restaurant (Marktstraße 17\, 31134 Hildesheim)
URL:https://voltdeutschland.org/niedersachsen/veranstaltungen/meet-greet-hi
 ldesheim
END:VEVENT
END:VCALENDAR
