BEGIN:VCALENDAR
VERSION:2.0
PRODID:-//Volt Europa//Events//EN
CALSCALE:GREGORIAN
METHOD:PUBLISH
BEGIN:VEVENT
UID:meet-greet-hildesheim-290125-1-1776789000@voltdeutschland.org
DTSTAMP:20260421T101653Z
DTSTART;TZID=Europe/Berlin:20260421T183000
DTEND;TZID=Europe/Berlin:20260421T220000
SUMMARY:Meet & Greet Hildesheim
DESCRIPTION:Du möchtest politisch aktiv werden oder einfach nur mehr über
  Volt und das City Team Hildesheim erfahren? Dann freuen wir uns über dein
 en Besuch im Amadeus Restaurant & Café am 21.04.2026 ab 18:30 Uhr!
LOCATION:Marktstraße 17\, 31134 Hildesheim
URL:https://voltdeutschland.org/niedersachsen/veranstaltungen/meet-greet-hi
 ldesheim-290125-1
END:VEVENT
END:VCALENDAR
