BEGIN:VCALENDAR
VERSION:2.0
PRODID:-//Volt Europa//Events//EN
CALSCALE:GREGORIAN
METHOD:PUBLISH
BEGIN:VEVENT
UID:meet-greet-hildesheim-280125-1770746400@voltdeutschland.org
DTSTAMP:20260422T183638Z
DTSTART;TZID=Europe/Berlin:20260210T190000
DTEND;TZID=Europe/Berlin:20260210T213000
SUMMARY:Meet & Greet Hildesheim
DESCRIPTION:Am 10.02.2026 findet das nächste Meet & Greet in Hildesheim st
 att. Du möchtest politisch aktiv werden oder einfach nur mehr über Volt e
 rfahren? Dann freuen wir uns auf deinen Besuch im digitalen Meet & Greet am
  10.02.2026 um 19 Uhr! Link:  https://meet.google.com/ixq-idgj-cdg
LOCATION:Videokonferenz (Google Meet)
URL:https://voltdeutschland.org/niedersachsen/veranstaltungen/meet-greet-hi
 ldesheim-280125
END:VEVENT
END:VCALENDAR
