BEGIN:VCALENDAR
VERSION:2.0
PRODID:-//Volt Europa//Events//EN
CALSCALE:GREGORIAN
METHOD:PUBLISH
BEGIN:VEVENT
UID:meet-greet-hannover-270626-1782565200@voltdeutschland.org
DTSTAMP:20260421T101610Z
DTSTART;TZID=Europe/Berlin:20260627T150000
DTEND;TZID=Europe/Berlin:20260627T170000
SUMMARY:Meet & Greet Hannover
DESCRIPTION:Komm mit uns im Freizeitheim Vahrenwald ins Gespräch! Veransta
 ltungsraum ist Barrierefrei zugänglich Europa steht an einem Scheideweg. N
 ationalismus\, Populismus und autoritäre Tendenzen gewinnen an Einfluss\, 
 während Solidarität\, Demokratie und Menschenrechte unter Druck geraten. 
 Doch wir glauben: Eine andere Zukunft ist möglich – wenn wir sie gemeins
 am gestalten! Wir laden dich herzlich zu unserem Meet & Greet ein\, um übe
 r aktuelle politische Entwicklungen\, die Herausforderungen unserer Zeit un
 d
LOCATION:Freizeitheim Vahrenwald\, Vahrenwalder Str. 92\, 30165 Hannover\, 
 Germany
URL:https://voltdeutschland.org/niedersachsen/veranstaltungen/meet-greet-ha
 nnover-270626
END:VEVENT
END:VCALENDAR
