BEGIN:VCALENDAR
VERSION:2.0
PRODID:-//Volt Europa//Events//EN
CALSCALE:GREGORIAN
METHOD:PUBLISH
BEGIN:VEVENT
UID:meet-greet-goslar-09032026-1773075600@voltdeutschland.org
DTSTAMP:20260424T175312Z
DTSTART;TZID=Europe/Berlin:20260309T180000
DTEND;TZID=Europe/Berlin:20260309T200000
SUMMARY:Meet & Greet Goslar
DESCRIPTION:Am 09.03.2026 laden wir wieder herzlich zu unserem Meet & Greet
  ein. Du möchtest mehr über Volt erfahren und vielleicht sogar selber pol
 itisch aktiv werden? Dann komm um 18 Uhr in das Restaurant Papillon in der 
 Rosentorstraße 24\, 38640 Goslar und lerne dort unser Team kennen!
LOCATION:Rosentorstraße 24\, 38640 Goslar
URL:https://voltdeutschland.org/niedersachsen/veranstaltungen/meet-greet-go
 slar-09032026
END:VEVENT
END:VCALENDAR
