BEGIN:VCALENDAR
VERSION:2.0
PRODID:-//Volt Europa//Events//EN
CALSCALE:GREGORIAN
METHOD:PUBLISH
BEGIN:VEVENT
UID:meet-greet-goe-01jul-1782925200@voltdeutschland.org
DTSTAMP:20260421T101521Z
DTSTART;TZID=Europe/Berlin:20260701T190000
DTEND;TZID=Europe/Berlin:20260701T220000
SUMMARY:Meet & Greet Göttingen
DESCRIPTION:Am Mittwoch\, 01. Juli findet wieder unser monatliches Volt Mee
 t & Greet in Göttingen statt! Schaut einfach ab 19 Uhr in der Diva Lounge 
 (Kurze-Geismar-Straße 9\, 37073 Göttingen) vorbei. Beim ungezwungenen Aus
 tausch könnt Ihr ein paar Leute aus unserem Team kennenlernen und Infos zu
 r möglichen Beteiligung an der Volt Parteiarbeit abgreifen!  Wir freuen un
 s auf Euch!
LOCATION:Diva Lounge\, Kurze-Geismar-Straße 9\, 37073 Göttingen
URL:https://voltdeutschland.org/niedersachsen/veranstaltungen/meet-greet-go
 e-01jul
END:VEVENT
END:VCALENDAR
