BEGIN:VCALENDAR
VERSION:2.0
PRODID:-//Volt Europa//Events//EN
CALSCALE:GREGORIAN
METHOD:PUBLISH
BEGIN:VEVENT
UID:meet-greet-goe-01apr-1775062800@voltdeutschland.org
DTSTAMP:20260425T030720Z
DTSTART;TZID=Europe/Berlin:20260401T190000
DTEND;TZID=Europe/Berlin:20260401T220000
SUMMARY:Meet & Greet Göttingen
DESCRIPTION:Am Mittwoch\, 01. April findet wieder unser monatliches Volt Me
 et & Greet in Göttingen statt! Schaut einfach ab 19 Uhr in der Diva Lounge
  (Kurze-Geismar-Straße 9\, 37073 Göttingen) vorbei. Beim ungezwungenen Au
 stausch könnt Ihr ein paar Leute aus unserem Team kennenlernen und Infos z
 ur möglichen Beteiligung an der Volt Parteiarbeit abgreifen! Wir freuen un
 s auf Euch!
LOCATION:Diva Lounge\, Kurze-Geismar-Straße 9\, 37073 Göttingen
URL:https://voltdeutschland.org/niedersachsen/veranstaltungen/meet-greet-go
 e-01apr
END:VEVENT
END:VCALENDAR
