BEGIN:VCALENDAR
VERSION:2.0
PRODID:-//Volt Europa//Events//EN
CALSCALE:GREGORIAN
METHOD:PUBLISH
BEGIN:VEVENT
UID:meet-greet-celle-080325-1741456800@voltdeutschland.org
DTSTAMP:20260421T100000Z
DTSTART;TZID=Europe/Berlin:20250308T190000
DTEND;TZID=Europe/Berlin:20250308T220000
SUMMARY:Meet & Greet Celle
DESCRIPTION:Am 08.03.2025 laden wir wieder herzlich zu unserem Meet & Greet
  ein. Du mÃ¶chtest mehr Ã¼ber Volt erfahren und vielleicht sogar selber pol
 itisch aktiv werden? Dann komm ab 19 Uhr zur â€žCelle - Was Geht?! Die Barâ
 €œ (Torplatz 2\, 29223 Celle) und lerne dort unser Team kennen! Wir freuen 
 uns auf DICH!
LOCATION:Celle - Was Geht?! Die Bar\, Torplatz 2\, 29223 Celle
URL:https://voltdeutschland.org/niedersachsen/veranstaltungen/meet-greet-ce
 lle-080325
END:VEVENT
END:VCALENDAR
