BEGIN:VCALENDAR
VERSION:2.0
PRODID:-//Volt Europa//Events//EN
CALSCALE:GREGORIAN
METHOD:PUBLISH
BEGIN:VEVENT
UID:meet-greet-celle-010225-1738432800@voltdeutschland.org
DTSTAMP:20260421T095131Z
DTSTART;TZID=Europe/Berlin:20250201T190000
DTEND;TZID=Europe/Berlin:20250201T220000
SUMMARY:Meet & Greet Celle
DESCRIPTION:Am 01.02.2025 laden wir wieder herzlich zu unserem Meet & Greet
  ein. Du möchtest mehr über Volt und die bevorstehende Bundestagswahl erf
 ahren und vielleicht sogar selber politisch aktiv werden? Dann komm ab 19 U
 hr zur „Celle - Was Geht?! Die Bar“ (Torplatz 2\, 29223 Celle) und lern
 e dort unser Team kennen! Wir freuen uns auf DICH!
LOCATION:Celle - Was Geht?! Die Bar\, Torplatz 2\, 29223 Celle
URL:https://voltdeutschland.org/niedersachsen/veranstaltungen/meet-greet-ce
 lle-010225
END:VEVENT
END:VCALENDAR
