BEGIN:VCALENDAR
VERSION:2.0
PRODID:-//Volt Europa//Events//EN
CALSCALE:GREGORIAN
METHOD:PUBLISH
BEGIN:VEVENT
UID:meet-greet-burgdorf-051126-1793901600@voltdeutschland.org
DTSTAMP:20260421T115432Z
DTSTART;TZID=Europe/Berlin:20261105T190000
DTEND;TZID=Europe/Berlin:20261105T210000
SUMMARY:Meet & Greet Burgdorf
DESCRIPTION:Hallo Burgdorf und Umgebung! Lust auf einen entspannten Abend m
 it progressiven Köpfen? Dann komm zu unserem nächsten Meet & Greet von Vo
 lt für Burgdorf-Lehrte-Uetze! Wir treffen uns zum lockeren Austausch und f
 reuen uns darauf\, dich kennenzulernen. Egal\, ob du schon Volt-Mitglied bi
 st\, uns unterstützt oder einfach neugierig auf progressive Politik bist! 
 Was dich erwartet: - Spannende Gespräche über unsere Arbeit und Themen - 
 Die Chance\, unser Local Team persönlich kennenzulernen - Eine entspannt
LOCATION:Glashaus\, Kleiner Brückendamm 29\, 31303 Burgdorf
URL:https://voltdeutschland.org/hannover/veranstaltungen/meet-greet-burgdor
 f-051126
END:VEVENT
END:VCALENDAR
