BEGIN:VCALENDAR
VERSION:2.0
PRODID:-//Volt Europa//Events//EN
CALSCALE:GREGORIAN
METHOD:PUBLISH
BEGIN:VEVENT
UID:jgmv6z-1768730400@voltdeutschland.org
DTSTAMP:20260423T054324Z
DTSTART;TZID=Europe/Berlin:20260118T110000
DTEND;TZID=Europe/Berlin:20260118T123000
SUMMARY:Volt Dog Walk Buchholz i.d.N.
DESCRIPTION:Volt kommt auf den Hund! Schnapp Dir Deinen Hund und lass uns g
 emeinsam eine Runde drehen. Du hast keinen Hund zur Hand\, aber trotzdem Lu
 st auf einen Spaziergang mit lockerem Austausch? Kein Problem! Dieses Mal s
 ehen wir uns die Waldfläche am Meyerschen Weg an. Für diese Fläche wurde
  ein Bebauungsplan für ein neues Wohngebiet diskutiert\, wofür 7.8 Hektar
  Waldfläche gerodet werden müssten. Der Antrag für den Bebauungsplan wur
 de momentan zurückgestellt. Wir können uns außerdem über andere aktuell
 e
LOCATION:P&R Bahnhof Holm-Seppensen\, Bahnhofsweg 4\, 21244 Buchholz i.d.N.
URL:https://voltdeutschland.org/niedersachsen/veranstaltungen/jgmv6z
END:VEVENT
END:VCALENDAR
