BEGIN:VCALENDAR
VERSION:2.0
PRODID:-//Volt Europa//Events//EN
CALSCALE:GREGORIAN
METHOD:PUBLISH
BEGIN:VEVENT
UID:infostand-hildesheim-141224-1-1772785800@voltdeutschland.org
DTSTAMP:20260424T175333Z
DTSTART;TZID=Europe/Berlin:20260306T093000
DTEND;TZID=Europe/Berlin:20260306T150000
SUMMARY:Infostand Hildesheim
DESCRIPTION:Komm zu uns an den Infostand und sprich mit uns über die anste
 hende Kommunalwahl. Gerne stehen wir dir auch für Fragen zu Volt und zum C
 ity Team Hildesheim zur Verfügung. Du möchtest uns unterstützen und viel
 leicht sogar Mitglied bei Volt werden? Sprich uns gerne dazu an! Wir freuen
  uns auf dich!
LOCATION:Neustädter Markt am Brunnen\, 31134 Hildesheim
URL:https://voltdeutschland.org/niedersachsen/veranstaltungen/infostand-hil
 desheim-141224-1
END:VEVENT
END:VCALENDAR
