BEGIN:VCALENDAR
VERSION:2.0
PRODID:-//Volt Europa//Events//EN
CALSCALE:GREGORIAN
METHOD:PUBLISH
BEGIN:VEVENT
UID:hannover-csd-240526-1779616800@voltdeutschland.org
DTSTAMP:20260425T004118Z
DTSTART;TZID=Europe/Berlin:20260524T120000
DTEND;TZID=Europe/Berlin:20260524T190000
SUMMARY:Cristopher Street Day (Tag 2)
DESCRIPTION:Am 24.05.2026 findet der zweite Tag vom Christopher Street Day 
 Hannover mit Straßenfest auf dem Opernplatz statt.   Neben uns und  andere
 n Parteien werden viele Organisationen und Vereine vor Ort sein\, die gemei
 nsam mit allen Anwesenden für die Rechte queerer Menschen Haltung zeigen w
 erden! Auf dem Sraßenfest wird es zudem ein großes Angebot an Bühnenprog
 ramm und Musik geben.  Am Sonntag gegen 14 Uhr ist auch die Politische Rund
 e auf der Hauptbühne geplant. weitere Infos auf der Seite des CSD:  
LOCATION:Opernplatz Hannover
URL:https://voltdeutschland.org/niedersachsen/veranstaltungen/hannover-csd-
 240526
END:VEVENT
END:VCALENDAR
