BEGIN:VCALENDAR
VERSION:2.0
PRODID:-//Volt Europa//Events//EN
CALSCALE:GREGORIAN
METHOD:PUBLISH
BEGIN:VEVENT
UID:hannover-csd-230526-1779526800@voltdeutschland.org
DTSTAMP:20260425T005821Z
DTSTART;TZID=Europe/Berlin:20260523T110000
DTEND;TZID=Europe/Berlin:20260523T190000
SUMMARY:Cristopher Street Day (Tag 1)
DESCRIPTION:Am 23.05.2026 findet der erste Tag des Christopher Street Day H
 annover statt. Es gibt eine Auftaktkundgebung auf dem Opernplatz Hannover d
 anach wird eine Demonstration durch Hannover stattfinden. Nähere Infos auf
  der Seite des CSD:  https://www.hannovercsd.de Neben uns und den anderen P
 arteien werden viele Organisationen und Vereine vor Ort sein\, die gemeinsa
 m mit allen Anwesenden für die Rechte queerer Menschen Haltung zeigen werd
 en!  Wir werden an unserem Infostand für euch zur Verfügung stehe
LOCATION:Opernplatz Hannover
URL:https://voltdeutschland.org/niedersachsen/veranstaltungen/hannover-csd-
 230526
END:VEVENT
END:VCALENDAR
