BEGIN:VCALENDAR
VERSION:2.0
PRODID:-//Volt Europa//Events//EN
CALSCALE:GREGORIAN
METHOD:PUBLISH
BEGIN:VEVENT
UID:flinta-treffen-hannover-1773162000@voltdeutschland.org
DTSTAMP:20260424T175306Z
DTSTART;TZID=Europe/Berlin:20260310T180000
DTEND;TZID=Europe/Berlin:20260310T210000
SUMMARY:FLINTA*-Treffen Hannover
DESCRIPTION:Am 8. März ist Weltfrauentag 🩷💜  Den Dienstag danach\, a
 lso den 10.3.26\, treffen wir Frauen und andere FLINTA*-Personen uns zu ein
 em Meet&Greet und freuen uns\, wenn ihr dabei seid   Ihr könnt gerne eine 
 Freundin\, Schwester\, Mutter\, Mitbewohnerin oder Bekannte mitbringen!  La
 sst uns über Frauen in der Politik unterhalten und über jedes andere Them
 a\, das auch interessiert. Natürlich könnt ihr uns auch alle möglichen F
 ragen stellen - und auch wenn ihr vorher noch welche habt\, könnt ihr uns 
 gerne per
LOCATION:Café Spesso\, Podbielskistraße 315\, 30659 Hannover
URL:https://voltdeutschland.org/hannover/veranstaltungen/flinta-treffen-han
 nover
END:VEVENT
END:VCALENDAR
