BEGIN:VCALENDAR
VERSION:2.0
PRODID:-//Volt Europa//Events//EN
CALSCALE:GREGORIAN
METHOD:PUBLISH
BEGIN:VEVENT
UID:b4fg78-1792684800@voltdeutschland.org
DTSTAMP:20260421T115156Z
DTSTART;TZID=Europe/Berlin:20261022T180000
DTEND;TZID=Europe/Berlin:20261022T203000
SUMMARY:Meet & Greet Uelzen
DESCRIPTION:Am 22.10.2026 laden wir wieder herzlich zu unserem Meet & Greet
  ein. Du möchtest mehr über Volt erfahren und vielleicht sogar selber pol
 itisch aktiv werden? Dann komm um 18 Uhr zum bürgerlichen Brauhaus (Lüneb
 urger Str. 15\, 29525 Uelzen) und lerne uns dort kennen!
LOCATION:Voraussichtlich Bürgerliches Brauhaus\, Lüneburger Str. 15\, 295
 25 Uelzen
URL:https://voltdeutschland.org/niedersachsen/veranstaltungen/b4fg78
END:VEVENT
END:VCALENDAR
