BEGIN:VCALENDAR
VERSION:2.0
PRODID:-//Volt Europa//Events//EN
CALSCALE:GREGORIAN
METHOD:PUBLISH
BEGIN:VEVENT
UID:9q6czo-1769104800@voltdeutschland.org
DTSTAMP:20260423T044212Z
DTSTART;TZID=Europe/Berlin:20260122T190000
DTEND;TZID=Europe/Berlin:20260122T210000
SUMMARY:Meet & Greet Buchholz i.d.N.
DESCRIPTION:Du willst Volt kennenlernen? Du möchtest über aktuelle (lokal
 -)politische Themen diskutieren? Du willst wissen\, wie wir uns auf die Kom
 munalwahl vorbereiten? Du überlegst selbst politisch aktiv zu werden? Oder
  Du bist Volunteer oder Mitglied bei uns und möchtest mal wieder vorbeisch
 auen? Dann komm zu unserem nächsten Meet & Greet. Zwischen 19 und 21 Uhr t
 reffen wir uns im Lim's zum lockeren Austausch.  Unser Thema heute: Angespa
 nnte Wohnraumsituation in Buchholz  Erste Planungsvorschläge benenne
LOCATION:Lim’s Buchholz\, Breite Straße 10\, 21244 Buchholz i.d.N.
URL:https://voltdeutschland.org/niedersachsen/veranstaltungen/9q6czo
END:VEVENT
END:VCALENDAR
