BEGIN:VCALENDAR
VERSION:2.0
PRODID:-//Volt Europa//Events//EN
CALSCALE:GREGORIAN
METHOD:PUBLISH
BEGIN:VEVENT
UID:68xswv-1768244400@voltdeutschland.org
DTSTAMP:20260423T044339Z
DTSTART;TZID=Europe/Berlin:20260112T200000
DTEND;TZID=Europe/Berlin:20260112T210000
SUMMARY:Digitales Meet & Greet Niedersachsen
DESCRIPTION:Wolltest du schon immer Volt kennenlernen? Dann komm zu unserem
  online Meet & Greet. Lerne in lockerer Umgebung unser Team in Niedersachse
 n kennen. Dann ist hier deine Chance: Wir haben jeden zweiten Montag unser 
 digitales Meet & Greets.  Komm zum Treffen einfach über diesen Link in die
  Videokonferenz:  meet.google.com/ovu-xkyr-jyh Wir freuen uns auf alle\, di
 e (auch spontan) vorbeikommen wollen!
LOCATION:Online (Link: siehe im Text)
URL:https://voltdeutschland.org/niedersachsen/veranstaltungen/68xswv
END:VEVENT
END:VCALENDAR
