BEGIN:VCALENDAR
VERSION:2.0
PRODID:-//Volt Europa//Events//EN
CALSCALE:GREGORIAN
METHOD:PUBLISH
BEGIN:VEVENT
UID:meet-greet-muenchen-1778085000@voltdeutschland.org
DTSTAMP:20260423T035415Z
DTSTART;TZID=Europe/Berlin:20260506T183000
DTEND;TZID=Europe/Berlin:20260506T235900
SUMMARY:Meet & Greet München
DESCRIPTION:Ihr seht die Zukunft auch in einem demokratischen\, freien und 
 vereinten Europa? In einer offenen Gesellschaft\, in der alle Länder in ei
 ner starken und effektiven Europäischen Union an einem Strang ziehen? Ihr 
 möchtet wissen\, wie ihr euch in München für Europa und gegen den politi
 schen Rechtsruck engagieren könnt?  Dann kommt am  Mittwoch\, den 06.05.20
 26  abends ab  18:30 Uhr  zu unserem Meet & Greet ins  Klenze 17 \, Klenzes
 traße 17\, 80469 München. Wir stellen uns vor\, beantworten eure Fragen u
 nd
LOCATION:Klenze 17\, 80469 München
URL:https://voltdeutschland.org/muenchen/veranstaltungen/meet-greet-muenche
 n
END:VEVENT
END:VCALENDAR
