BEGIN:VCALENDAR
VERSION:2.0
PRODID:-//Volt Europa//Events//EN
CALSCALE:GREGORIAN
METHOD:PUBLISH
BEGIN:VEVENT
UID:meet-greet-muenchen-5-1716660000@voltdeutschland.org
DTSTAMP:20260423T040257Z
DTSTART;TZID=Europe/Berlin:20240525T200000
DTEND;TZID=Europe/Berlin:20240525T235900
SUMMARY:Meet & Greet München
DESCRIPTION:Am 25. Mai 2024 gibt es von 20:00 – 00:00 Uhr ein Meet & Gree
 t mit unserem Spitzenkandidaten Damian Boeselager und unserem Stadtrat Feli
 x Sproll im Wirtshaus im Bavariapark in München. Ihr seht die Zukunft auch
  in einem demokratischen\, freien und vereinten Europa?  Ihr möchtet wisse
 n\, warum ihr uns am 9. Juni bei der Europawahl wählen sollt?  Dann kommt 
 am Samstag Abend ab 20:00 Uhr zu unserem Meet & Greet ins Wirtshaus im Bava
 ria Park\, Theresienhöhe 15. Kosten für Essen & Getränke übernehmt ihr
LOCATION:Wirtshaus im Bavaria Park\, München
URL:https://voltdeutschland.org/bayern/veranstaltungen/meet-greet-muenchen-
 5
END:VEVENT
END:VCALENDAR
