BEGIN:VCALENDAR
VERSION:2.0
PRODID:-//Volt Europa//Events//EN
CALSCALE:GREGORIAN
METHOD:PUBLISH
BEGIN:VEVENT
UID:auf-den-spuren-der-radpendlerroute-opladen-koeln-juni-2026-1780387200@v
 oltdeutschland.org
DTSTAMP:20260424T175404Z
DTSTART;TZID=Europe/Berlin:20260602T100000
DTEND;TZID=Europe/Berlin:20260602T170000
SUMMARY:🚲 Auf den Spuren der Radpendlerroute Opladen–Köln
DESCRIPTION:Volt/Bürgerliste und der ADFC Leverkusen laden herzlich ein zu
 r gemeinsamen Radtour Die geplante Radpendlerroute steht fest – doch bis 
 zur Umsetzung wird noch Zeit vergehen. Wir möchten nicht abwarten\, sonder
 n bereits jetzt konkrete Verbesserungen anstoßen. Gemeinsam mit dem ADFC f
 ahren wir die Strecke ab und schauen genau hin: Wo fehlen Schilder? Wo kön
 nen Bordsteine abgesenkt werden? Wo lässt sich der Radverkehr kurzfristig 
 verbessern? Alle Hinweise sammeln wir vor Ort und bringen sie im Ansch
LOCATION:ADFC-Geschäftsstelle\, Freiherr-vom-Stein-Straße 5a\, Leverkusen
  Opladen
URL:https://voltdeutschland.org/leverkusen/veranstaltungen/auf-den-spuren-d
 er-radpendlerroute-opladen-koeln-juni-2026
END:VEVENT
END:VCALENDAR
