BEGIN:VCALENDAR
VERSION:2.0
PRODID:-//Volt Europa//Events//EN
CALSCALE:GREGORIAN
METHOD:PUBLISH
BEGIN:VEVENT
UID:stammtisch-borna-leipzigland-1777998600@voltdeutschland.org
DTSTAMP:20260423T002612Z
DTSTART;TZID=Europe/Berlin:20260505T183000
DTEND;TZID=Europe/Berlin:20260505T203000
SUMMARY:Stammtisch Borna-Leipzigland
DESCRIPTION:Kommt vorbei zu unserem ersten Stammtisch in Borna in Jules . A
 b 18:30 Uhr geht's los! Wir freuen uns auf euch 💜
LOCATION:Jule Manufraktur\, Wettinstr. \, 04552 Borna
URL:https://voltdeutschland.org/leipzig/veranstaltungen/stammtisch-borna-le
 ipzigland
END:VEVENT
END:VCALENDAR
