BEGIN:VCALENDAR
VERSION:2.0
PRODID:-//Volt Europa//Events//EN
CALSCALE:GREGORIAN
METHOD:PUBLISH
BEGIN:VEVENT
UID:frauen-flinta-meetgreet-leipzig-24012026-1600-1769266800@voltdeutschlan
 d.org
DTSTAMP:20260423T094727Z
DTSTART;TZID=Europe/Berlin:20260124T160000
DTEND;TZID=Europe/Berlin:20260124T180000
SUMMARY:(Frauen) FLINTA* Meet&Greet Leipzig | 24.01.2026 - 16:00
DESCRIPTION:
LOCATION:Bosestraße 4\, 04109 Leipzig\, Deutschland
URL:https://voltdeutschland.org/leipzig/veranstaltungen/frauen-flinta-meetg
 reet-leipzig-24012026-1600
END:VEVENT
END:VCALENDAR
