BEGIN:VCALENDAR
VERSION:2.0
PRODID:-//Volt Europa//Events//EN
CALSCALE:GREGORIAN
METHOD:PUBLISH
BEGIN:VEVENT
UID:flinta_meet_and_greet-1776956400@voltdeutschland.org
DTSTAMP:20260423T002612Z
DTSTART;TZID=Europe/Berlin:20260423T170000
DTEND;TZID=Europe/Berlin:20260423T190000
SUMMARY:FLINTA* Meet&Greet | Leipzig
DESCRIPTION:FLINTA* ist eine Abkürzung für Personen\, die keine männlich
 en Cisgender sind. Der Begriff umfasst Frauen\, Lesben\, Intersexuelle\, Ni
 chtbinäre\, Transgender und Agender Personen. * steht für weitere Geschle
 chtsidentitäten.
LOCATION:Eisenbahnstraße 99\, 04315 Leipzig | KuApo
URL:https://voltdeutschland.org/leipzig/veranstaltungen/flinta_meet_and_gre
 et
END:VEVENT
END:VCALENDAR
