BEGIN:VCALENDAR
VERSION:2.0
PRODID:-//Volt Europa//Events//EN
CALSCALE:GREGORIAN
METHOD:PUBLISH
BEGIN:VEVENT
UID:mg-2026-05-15-1778922000@voltdeutschland.org
DTSTAMP:20260421T101434Z
DTSTART;TZID=Europe/Berlin:20260516T110000
DTEND;TZID=Europe/Berlin:20260516T120000
SUMMARY:Meet & Greet Kreis Düren
DESCRIPTION:Willst du mehr über Volt erfahren? Möchtest du Volter*innen k
 ennenlernen und dich mit ihnen austauschen? Dann komm zu unserem Meet&Greet
 ! Bei unseren Meet&Greets kannst Du Dich über Volt und unsere Mitmachmögl
 ichkeiten informieren. Neben Infos über Volt wird es auch viel Raum für F
 ragen und zum Austausch geben.  Hört sich interessant an? Dann triff uns a
 m 16.05.2026 von 11 Uhr im Cafe Extrablatt Düren (Markt 16\, 52349 Düren)
  💜 Das klappt bei dir nicht? Dann schaue doch gerne bei den Events von V
LOCATION:Cafe Extrablatt\, Markt 16\, 52349 Düren
URL:https://voltdeutschland.org/kreis-dueren/veranstaltungen/mg-2026-05-15
END:VEVENT
END:VCALENDAR
