BEGIN:VCALENDAR
VERSION:2.0
PRODID:-//Volt Europa//Events//EN
CALSCALE:GREGORIAN
METHOD:PUBLISH
BEGIN:VEVENT
UID:mg-2026-04-18-1776502800@voltdeutschland.org
DTSTAMP:20260421T101435Z
DTSTART;TZID=Europe/Berlin:20260418T110000
DTEND;TZID=Europe/Berlin:20260418T120000
SUMMARY:Meet & Greet Kreis Düren
DESCRIPTION:Willst du mehr über Volt erfahren? Möchtest du Volter*innen k
 ennenlernen und dich mit ihnen austauschen? Dann komm zu unserem Meet&Greet
 ! Bei unseren Meet&Greets kannst Du Dich über Volt und unsere Mitmachmögl
 ichkeiten informieren. Neben Infos über Volt wird es auch viel Raum für F
 ragen und zum Austausch geben.  Hört sich interessant an? Dann triff uns a
 m 18.04.2026 von 11 Uhr im Zierwerk & Eiswerk (Poststr. 1\, 52428 Jülich) 
 💜 Das klappt bei dir nicht? Dann schaue doch gerne bei den Events von V
LOCATION:Eiswerk\, Poststr. 1\, 52428 Jülich
URL:https://voltdeutschland.org/kreis-dueren/veranstaltungen/mg-2026-04-18
END:VEVENT
END:VCALENDAR
