BEGIN:VCALENDAR
VERSION:2.0
PRODID:-//Volt Europa//Events//EN
CALSCALE:GREGORIAN
METHOD:PUBLISH
BEGIN:VEVENT
UID:z-mg-80038-1781800200@voltdeutschland.org
DTSTAMP:20260421T101048Z
DTSTART;TZID=Europe/Berlin:20260618T183000
DTEND;TZID=Europe/Berlin:20260618T210000
SUMMARY:Meet & Greet Köln
DESCRIPTION:Willst du mehr über Volt erfahren? Möchtest du Volter*innen k
 ennenlernen und dich mit ihnen austauschen? Dann komm zu unserem Meet&Greet
 ! Bei unseren Meet&Greets kannst Du Dich über Volt und unsere Mitmachmögl
 ichkeiten informieren. Neben Infos über Volt wird es auch viel Raum für F
 ragen und zum Austausch geben.
LOCATION:Liebefeld zu Ehren\, Stammstraße 2a\, 50823 Köln
URL:https://voltdeutschland.org/koeln/veranstaltungen/z-mg-80038
END:VEVENT
END:VCALENDAR
