BEGIN:VCALENDAR
VERSION:2.0
PRODID:-//Volt Europa//Events//EN
CALSCALE:GREGORIAN
METHOD:PUBLISH
BEGIN:VEVENT
UID:meet-greet-wiesbaden-2024-10-22-1729612800@voltdeutschland.org
DTSTAMP:20260424T144843Z
DTSTART;TZID=Europe/Berlin:20241022T180000
DTEND;TZID=Europe/Berlin:20241022T210000
SUMMARY:Meet & Greet Wiesbaden
DESCRIPTION:Wir laden euch herzlich zu unserem Meet & Greet ein!  Kommt vor
 bei und genießt einen Abend voller spannender Gespräche\, leckerer Geträ
 nke und toller Gesellschaft. Egal ob ihr neue Leute kennenlernen wollt\, Fr
 agen habt oder einfach einen schönen Abend verbringen möchtet - wir freue
 n uns auf euch! Markiert den Termin in eurem Kalender und bringt Freunde mi
 t!
LOCATION:Wirtshaus Straßenmühle\, Straßenmühlweg 4\, 65199 Wiesbaden
URL:https://voltdeutschland.org/hessen/veranstaltungen/meet-greet-wiesbaden
 -2024-10-22
END:VEVENT
END:VCALENDAR
