BEGIN:VCALENDAR
VERSION:2.0
PRODID:-//Volt Europa//Events//EN
CALSCALE:GREGORIAN
METHOD:PUBLISH
BEGIN:VEVENT
UID:meet-greet-volt-mkw-offenes-kennenlern-treffen-in-bruchkoebel-20260423-
 1776960000@voltdeutschland.org
DTSTAMP:20260421T101817Z
DTSTART;TZID=Europe/Berlin:20260423T180000
DTEND;TZID=Europe/Berlin:20260423T210000
SUMMARY:Meet & Greet in Bruchköbel
DESCRIPTION:Hallo  Bruchköbel  und Umgebung! Das Team Main-Kinzig-Wetterau
  (MKW) der Partei Volt lädt herzlich zu einem spannenden und informativen 
 Meet & Greet ein.  Komm vorbei\, lerne uns kennen\, stelle uns deine Fragen
 \, bring deine Ideen mit und diskutiere mit uns. Wir freuen uns sehr\, dich
  bei unserem Meet & Greet zu sehen. Bring gerne auch Freunde oder Familie m
 it\, die Interesse an zukunftsorientierter und pragmatischer Politik haben!
  Bis bald! Dein Volt-Team Main-Kinzig-Wetterau
LOCATION:ÄGÄIS\, Limesstraße 2\, 63486 Bruchköbel
URL:https://voltdeutschland.org/hessen/veranstaltungen/meet-greet-volt-mkw-
 offenes-kennenlern-treffen-in-bruchkoebel-20260423
END:VEVENT
END:VCALENDAR
