BEGIN:VCALENDAR
VERSION:2.0
PRODID:-//Volt Europa//Events//EN
CALSCALE:GREGORIAN
METHOD:PUBLISH
BEGIN:VEVENT
UID:meet-greet-volt-giessen-26-05-05-1778002200@voltdeutschland.org
DTSTAMP:20260424T045818Z
DTSTART;TZID=Europe/Berlin:20260505T193000
DTEND;TZID=Europe/Berlin:20260505T220000
SUMMARY:Meet & Greet Gießen
DESCRIPTION:Du willst uns kennenlernen? Komm vorbei! Du hast Lust uns in Gi
 eßen kennenzulernen?   Du interessierst dich wer wir sind und was wir mach
 en? Du möchtest wissen\, wie du dich für Europa engagieren kannst? Volt G
 ießen - Meet & Greet in Gießen Lerne ein paar Volta aus dem lokalen Team 
 in Gießen kennen und tausche dich mit uns in lockerer Atmosphäre über Po
 litik aus. Wir freuen uns auf dich!
LOCATION:Die Kate\, Bismarckstraße 32\, 35390 Gießen
URL:https://voltdeutschland.org/hessen/veranstaltungen/meet-greet-volt-gies
 sen-26-05-05
END:VEVENT
END:VCALENDAR
