BEGIN:VCALENDAR
VERSION:2.0
PRODID:-//Volt Europa//Events//EN
CALSCALE:GREGORIAN
METHOD:PUBLISH
BEGIN:VEVENT
UID:meet-greet-bensheim-260505-1778000400@voltdeutschland.org
DTSTAMP:20260421T101505Z
DTSTART;TZID=Europe/Berlin:20260505T190000
DTEND;TZID=Europe/Berlin:20260505T213000
SUMMARY:Meet & Greet Bensheim
DESCRIPTION:Komm' zum Meet&Greet Team Bergstraße! 💜 Gemeinsam wollen wi
 r Lösungen umsetzen\, die echte Veränderung bringen – modern\, europäi
 sch und zukunftsorientiert. Deine Stimme zählt\, deine Ideen sind gefragt!
  Lass uns ins Gespräch kommen\, Fragen beantworten und zeigen\, wie wir ge
 meinsam Politik neu denken können. Neugierig auf Volt?  Dann lerne uns Ken
 nen bei einem Meet&Greet!  Stelle deine Fragen Tausche dich mit Volter*inne
 n aus Erfahre alles über uns
LOCATION:McSlobos/Stadtmühle\, Platanenallee 2\, 64625 Bensheim
URL:https://voltdeutschland.org/hessen/veranstaltungen/meet-greet-bensheim-
 260505
END:VEVENT
END:VCALENDAR
