BEGIN:VCALENDAR
VERSION:2.0
PRODID:-//Volt Europa//Events//EN
CALSCALE:GREGORIAN
METHOD:PUBLISH
BEGIN:VEVENT
UID:meet-and-greet-wiesbaden-26-05-12-1778601600@voltdeutschland.org
DTSTAMP:20260424T045909Z
DTSTART;TZID=Europe/Berlin:20260512T180000
DTEND;TZID=Europe/Berlin:20260512T210000
SUMMARY:Meet & Greet Wiesbaden
DESCRIPTION:Du willst uns kennenlernen? Komm vorbei! Du hast Lust uns in Wi
 esbaden kennenzulernen?   Du interessierst dich wer wir sind und was wir ma
 chen? Du möchtest wissen\, wie du dich für Europa engagieren kannst? Volt
  Wiesbaden - Meet & Greet in Wiesbaden Lerne ein paar Volta aus dem lokalen
  Team Wiesbaden kennen und tausche dich mit uns in lockerer Atmosphäre üb
 er Politik aus. Wir freuen uns auf dich!
LOCATION:Taverna Vassili\, Am Schloßpark 69\, 65203 Wiesbaden
URL:https://voltdeutschland.org/hessen/veranstaltungen/meet-and-greet-wiesb
 aden-26-05-12
END:VEVENT
END:VCALENDAR
