BEGIN:VCALENDAR
VERSION:2.0
PRODID:-//Volt Europa//Events//EN
CALSCALE:GREGORIAN
METHOD:PUBLISH
BEGIN:VEVENT
UID:meet-and-greet-limburg-26-05-08-1778259600@voltdeutschland.org
DTSTAMP:20260424T045823Z
DTSTART;TZID=Europe/Berlin:20260508T190000
DTEND;TZID=Europe/Berlin:20260508T220000
SUMMARY:Meet & Greet Limburg
DESCRIPTION:Du willst uns kennenlernen? Komm vorbei! Du hast Lust uns in Li
 mburg kennenzulernen?   Du interessierst dich wer wir sind und was wir mach
 en? Du möchtest wissen\, wie du dich für Europa engagieren kannst? Volt L
 imburg-Weilburg - Meet & Greet in Limburg Lerne ein paar Volta aus dem loka
 len Team Limburg-Weilburg kennen und tausche dich mit uns in lockerer Atmos
 phäre über Politik aus. Wir freuen uns auf dich!
LOCATION:Café Pavano\, Salzgasse 18\, 65549 Limburg an der Lahn
URL:https://voltdeutschland.org/hessen/veranstaltungen/meet-and-greet-limbu
 rg-26-05-08
END:VEVENT
END:VCALENDAR
