BEGIN:VCALENDAR
VERSION:2.0
PRODID:-//Volt Europa//Events//EN
CALSCALE:GREGORIAN
METHOD:PUBLISH
BEGIN:VEVENT
UID:meet-and-greet-gelnhausen-26020430-1777566600@voltdeutschland.org
DTSTAMP:20260421T101751Z
DTSTART;TZID=Europe/Berlin:20260430T183000
DTEND;TZID=Europe/Berlin:20260430T213000
SUMMARY:Meet & Greet Gelnhausen
DESCRIPTION:Hallo  Gelnhausen  und Umgebung! Lust auf einen entspannten Abe
 nd mit progressiven Köpfen? Dann komm zu unserem nächsten  Meet & Greet  
 von  Volt Main-Kinzig-Wetterau ! Wir treffen uns zum lockeren Austausch und
  freuen uns darauf\, dich kennenzulernen. Egal\, ob du schon Volt-Mitglied 
 bist\, uns unterstützt oder einfach neugierig auf progressive Politik bist
  – bei uns bist du genau richtig! Was dich erwartet: - Nette Leute aus de
 iner Region - Spannende Gespräche über unsere Arbeit und Themen - Die 
LOCATION:Coconut Restaurant Cocktailbar\, Lohmühlenweg 33\, 63571 Gelnhaus
 en
URL:https://voltdeutschland.org/hessen/veranstaltungen/meet-and-greet-gelnh
 ausen-26020430
END:VEVENT
END:VCALENDAR
