BEGIN:VCALENDAR
VERSION:2.0
PRODID:-//Volt Europa//Events//EN
CALSCALE:GREGORIAN
METHOD:PUBLISH
BEGIN:VEVENT
UID:infostand-bundestagswahl-nordend-2024-dezember-12-1734021000@voltdeutsc
 hland.org
DTSTAMP:20260424T115639Z
DTSTART;TZID=Europe/Berlin:20241212T173000
DTEND;TZID=Europe/Berlin:20241212T183000
SUMMARY:Infostand: Merianplatz - Unterschriften sammeln
DESCRIPTION:Du willst uns vor der Bundestagswahl  kennenlernen? DAS ist dei
 ne Chance! Du hast Lust eine richtige paneuropäische Partei und Bewegung k
 ennenzulernen?   Du interessierst dich für unsere Kandidierenden? Du hast 
 schon mal von Volt gehört und willst wissen\, wer wir eigentlich sind? 
 ⁠ Du möchtest wissen\, wie du dich für Europa engagieren kannst? Komm 
 gerne in der Innenstadt dazu\, informiere dich und schließ dich uns an. Un
 terschriften und Formulare zur Bundestagswahl! Der Infostand ist deine Mög
 li
LOCATION:Merianplatz/Kantstraße
URL:https://voltdeutschland.org/frankfurt/veranstaltungen/infostand-bundest
 agswahl-nordend-2024-dezember-12
END:VEVENT
END:VCALENDAR
