BEGIN:VCALENDAR
VERSION:2.0
PRODID:-//Volt Europa//Events//EN
CALSCALE:GREGORIAN
METHOD:PUBLISH
BEGIN:VEVENT
UID:grossdemo-in-frankfurt-am-8-juni-2024-votyvoty-1717858800@voltdeutschla
 nd.org
DTSTAMP:20260425T144821Z
DTSTART;TZID=Europe/Berlin:20240608T170000
DTEND;TZID=Europe/Berlin:20240608T190000
SUMMARY:Großdemo in Frankfurt am 8. Juni 2024 - Votyvoty
DESCRIPTION:Für Demokratie und Vielfalt - wir sind dabei! Weitere Infos au
 f votyvoty.de
LOCATION:Frankfurt\, Alte Oper
URL:https://voltdeutschland.org/frankfurt/veranstaltungen/grossdemo-in-fran
 kfurt-am-8-juni-2024-votyvoty
END:VEVENT
END:VCALENDAR
