BEGIN:VCALENDAR
VERSION:2.0
PRODID:-//Volt Europa//Events//EN
CALSCALE:GREGORIAN
METHOD:PUBLISH
BEGIN:VEVENT
UID:meet-greet-wenningsen-260429-1777480200@voltdeutschland.org
DTSTAMP:20260422T090733Z
DTSTART;TZID=Europe/Berlin:20260429T183000
DTEND;TZID=Europe/Berlin:20260429T200000
SUMMARY:Meet & Greet Wenningsen
DESCRIPTION:Komm mit uns ins Gespräch! Europa steht an einem Scheideweg. N
 ationalismus\, Populismus und autoritäre Tendenzen gewinnen an Einfluss\, 
 während Solidarität\, Demokratie und Menschenrechte unter Druck geraten. 
 Doch wir glauben: Eine andere Zukunft ist möglich – wenn wir sie gemeins
 am gestalten! Wir laden dich herzlich zu unserem Meet & Greet ein\, um übe
 r aktuelle politische Entwicklungen\, die Herausforderungen unserer Zeit un
 d vor allem über Lösungen zu sprechen. Warum ist politisches Engagement w
 ic
LOCATION:Wirtshaus Kerbholz\, Hauptstraße 33\, 30974 Wenningsen
URL:https://voltdeutschland.org/hannover/veranstaltungen/meet-greet-wenning
 sen-260429
END:VEVENT
END:VCALENDAR
