BEGIN:VCALENDAR
VERSION:2.0
PRODID:-//Volt Europa//Events//EN
CALSCALE:GREGORIAN
METHOD:PUBLISH
BEGIN:VEVENT
UID:meet-greet-springe-250326-1-1779899400@voltdeutschland.org
DTSTAMP:20260423T034508Z
DTSTART;TZID=Europe/Berlin:20260527T183000
DTEND;TZID=Europe/Berlin:20260527T200000
SUMMARY:Meet & Greet Springe
DESCRIPTION:Der Veranstaltungsort ist die Barrierearm\, eine vollstÃ¤ndige 
 Barrierefreiheit kÃ¶nnen wir jedoch nicht garantieren. Beispielsweise sind 
 die Toiletten recht schmal\, es gibt aber keine Stufen und der Ort ist eben
 erdig. Machen statt meckern\, werde jetzt aktiv und lerne Volt kennen! Woll
 test du schon immer einmal Volt kennenlernen und kommst aus Springe oder Um
 gebung? Dann ist hier deine Chance! Erfahre in einer persÃ¶nlichen AtmosphÃ
 ¤re\, was wir anders machen\, um Politik mit dir und fÃ¼r dich zu gestal
LOCATION:Hacienda\, HarmsmÃ¼hlenstraÃŸe 28\, 31832 Springe
URL:https://voltdeutschland.org/hannover/veranstaltungen/meet-greet-springe
 -250326-1
END:VEVENT
END:VCALENDAR
