BEGIN:VCALENDAR
VERSION:2.0
PRODID:-//Volt Europa//Events//EN
CALSCALE:GREGORIAN
METHOD:PUBLISH
BEGIN:VEVENT
UID:meet-and-greet-springe-280126-1769621400@voltdeutschland.org
DTSTAMP:20260424T225005Z
DTSTART;TZID=Europe/Berlin:20260128T183000
DTEND;TZID=Europe/Berlin:20260128T200000
SUMMARY:Meet & Greet Springe
DESCRIPTION:Machen statt meckern\, werde jetzt aktiv und lerne Volt kennen!
  Wolltest du schon immer einmal Volt kennenlernen und kommst aus Springe od
 er Umgebung? Dann ist hier deine Chance! Erfahre in einer persönlichen Atm
 osphäre\, was wir anders machen\, um Politik mit dir und für dich zu gest
 alten. Erzähle uns\, was dich gerade bewegt und unterhalte dich mit uns ü
 ber aktuelle Themen oder wie auch du dich aktiv in Politik einbringen kanns
 t. Wir freuen uns auf dich\, denn politisch aktiv zu werden ist aktuell 
LOCATION:Hacienda\, Harmsmühlenstraße 28\, 31832 Springe
URL:https://voltdeutschland.org/hannover/veranstaltungen/meet-and-greet-spr
 inge-280126
END:VEVENT
END:VCALENDAR
