BEGIN:VCALENDAR
VERSION:2.0
PRODID:-//Volt Europa//Events//EN
CALSCALE:GREGORIAN
METHOD:PUBLISH
BEGIN:VEVENT
UID:europatag-hannover-090526-1778322600@voltdeutschland.org
DTSTAMP:20260425T010302Z
DTSTART;TZID=Europe/Berlin:20260509T123000
DTEND;TZID=Europe/Berlin:20260509T143000
SUMMARY:Europatag Hannover
DESCRIPTION:Lasst uns am Europatag zusammenkommen und gemeinsam Position be
 ziehen fÃ¼r ein VEREINTES EUROPA JETZT! Wir erleben gerade\, wie sich in kÃ
 ¼rzester Zeit weltpolitische VerÃ¤nderungen in globalem AusmaÃŸ abspielen\,
  wie sie kaum jemand innerhalb so kurzer Zeit erwartet hÃ¤tte.  Kriege\, Kl
 imawandel\, wirtschaftliche Unsicherheit\, Rechtspopulismus â€“ wir mÃ¼ssen
  erkennen: Alleine sind wir machtlos â€“ nur vereint kann Europa bestehen. 
 FÃ¼r Frieden\, Demokratie und ein menschliches Leben. Es ist an der Zeit\, 
 nicht
LOCATION:Platz der Weltausstellung\, 30159 Hanover
URL:https://voltdeutschland.org/niedersachsen/veranstaltungen/europatag-han
 nover-090526
END:VEVENT
END:VCALENDAR
