BEGIN:VCALENDAR
VERSION:2.0
PRODID:-//Volt Europa//Events//EN
CALSCALE:GREGORIAN
METHOD:PUBLISH
BEGIN:VEVENT
UID:volksdorf-stadtfest-1725087600@voltdeutschland.org
DTSTAMP:20260422T041358Z
DTSTART;TZID=Europe/Berlin:20240831T090000
DTEND;TZID=Europe/Berlin:20240831T150000
SUMMARY:Volksdorf Stadtfest
DESCRIPTION:
LOCATION:Volsdorf Stadtfest
URL:https://voltdeutschland.org/hamburg/veranstaltungen/volksdorf-stadtfest
END:VEVENT
END:VCALENDAR
