BEGIN:VCALENDAR
VERSION:2.0
PRODID:-//Volt Europa//Events//EN
CALSCALE:GREGORIAN
METHOD:PUBLISH
BEGIN:VEVENT
UID:stadtteilfest-rothenburgsort-1757163600@voltdeutschland.org
DTSTAMP:20260423T195121Z
DTSTART;TZID=Europe/Berlin:20250906T150000
DTEND;TZID=Europe/Berlin:20250906T200000
SUMMARY:Stadtteilfest Rothenburgsort
DESCRIPTION:
LOCATION:Rothenburgsorter Marktplatz
URL:https://voltdeutschland.org/hamburg/veranstaltungen/stadtteilfest-rothe
 nburgsort
END:VEVENT
END:VCALENDAR
