BEGIN:VCALENDAR
VERSION:2.0
PRODID:-//Volt Europa//Events//EN
CALSCALE:GREGORIAN
METHOD:PUBLISH
BEGIN:VEVENT
UID:stadtteilfest-in-volksdorf-1757142000@voltdeutschland.org
DTSTAMP:20260424T045910Z
DTSTART;TZID=Europe/Berlin:20250906T090000
DTEND;TZID=Europe/Berlin:20250906T150000
SUMMARY:Stadtteilfest in Volksdorf
DESCRIPTION:Unter dem Motto "Europa geht unter die Haut" stehen wir am 06.0
 9 von 9-15 Uhr auf dem Stadtteilfest in Volksdorf im Volksdorfer Ortskern (
 Straßen: Im Alten Dorfe/Weiße Rose).
LOCATION:Im Alten Dorfe/Weiße Rose
URL:https://voltdeutschland.org/hamburg/veranstaltungen/stadtteilfest-in-vo
 lksdorf
END:VEVENT
END:VCALENDAR
