BEGIN:VCALENDAR
VERSION:2.0
PRODID:-//Volt Europa//Events//EN
CALSCALE:GREGORIAN
METHOD:PUBLISH
BEGIN:VEVENT
UID:schulrevolution-jetzt-ein-panel-fuer-zukunft-der-bildung-in-hamburg-173
 8949400@voltdeutschland.org
DTSTAMP:20260425T223440Z
DTSTART;TZID=Europe/Berlin:20250207T183000
DTEND;TZID=Europe/Berlin:20250207T200000
SUMMARY:Schulrevolution jetzt? Ein Panel für Zukunft der Bildung in Hambur
 g
DESCRIPTION:Am Freitag beginnen die U16-Wahlen zur Bürgerschaft – perfek
 ter Zeitpunkt\, um über Schule zu sprechen. Wir eröffnen den Abend mit ei
 ner U16-Live-Umfrage vom BDKJ und starten im Anschluss direkt in die Panel-
 Diskussion.  Viele Bildungswege führen in die Zukunft. Es gibt diverse Vor
 schläge dazu\, wie eine moderne und zukunftsfähige Schule in Hamburg auss
 ehen sollte. Wo sehen Jugendliche Handlungsbedarf und welche Vorschläge ha
 ben Schulbeteiligte?  Mit dabei: Julia Barth-Dworzynski (SPD)\, Lian Belga
LOCATION:(bitte anmelden) betahaus | Schanze\; Eifflerstraße 43\; 22769 Ha
 mburg
URL:https://voltdeutschland.org/hamburg/veranstaltungen/schulrevolution-jet
 zt-ein-panel-fuer-zukunft-der-bildung-in-hamburg
END:VEVENT
END:VCALENDAR
