BEGIN:VCALENDAR
VERSION:2.0
PRODID:-//Volt Europa//Events//EN
CALSCALE:GREGORIAN
METHOD:PUBLISH
BEGIN:VEVENT
UID:politik-unplugged-eppendorf-november-1764010800@voltdeutschland.org
DTSTAMP:20260424T224518Z
DTSTART;TZID=Europe/Berlin:20251124T200000
DTEND;TZID=Europe/Berlin:20251124T220000
SUMMARY:Politik unplugged Eppendorf
DESCRIPTION:Jeden letzten Montag im Monat treffen wir uns neben unseren reg
 elmäßigen Meet & Greets an wechselnden Standorten in Hamburg Nord zum Ken
 nenlernen und Austauschen in der Schramme in Eppendorf. Komm vorbei\, wenn 
 du wissen möchtest\, wie Volt tickt und wie du bei uns Politik mitgestalte
 n kannst. Wir freuen uns auf neue Gesichter!
LOCATION:Schramme\, Schrammsweg 10\, Eppendorf
URL:https://voltdeutschland.org/hamburg/veranstaltungen/politik-unplugged-e
 ppendorf-november
END:VEVENT
END:VCALENDAR
