BEGIN:VCALENDAR
VERSION:2.0
PRODID:-//Volt Europa//Events//EN
CALSCALE:GREGORIAN
METHOD:PUBLISH
BEGIN:VEVENT
UID:politic-unplugged-2026-02-13-eppendorf-1771873200@voltdeutschland.org
DTSTAMP:20260424T115334Z
DTSTART;TZID=Europe/Berlin:20260223T200000
DTEND;TZID=Europe/Berlin:20260223T210000
SUMMARY:Politik Unplugged - Volt Hamburg
DESCRIPTION:Willkommen zu Politik unplugged. Entdeckt bei lockerem Beisamme
 nsein\, wie wir gemeinsam Politik in Hamburg und Europa gestalten können. 
 Wir freuen uns auf Euren Input und Austausch. Keine Anmeldung nötig – wi
 r sehen uns dort
LOCATION:Schramme 10\, Schrammsweg 10 20249 Hamburg
URL:https://voltdeutschland.org/hamburg/veranstaltungen/politic-unplugged-2
 026-02-13-eppendorf
END:VEVENT
END:VCALENDAR
