BEGIN:VCALENDAR
VERSION:2.0
PRODID:-//Volt Europa//Events//EN
CALSCALE:GREGORIAN
METHOD:PUBLISH
BEGIN:VEVENT
UID:nord-werkstattgespraech-hamburg-testet-grundeinkommen-1759165200@voltde
 utschland.org
DTSTAMP:20260425T180839Z
DTSTART;TZID=Europe/Berlin:20250929T190000
DTEND;TZID=Europe/Berlin:20250929T203000
SUMMARY:Nord-Werkstattgespräch: Hamburg testet Grundeinkommen
DESCRIPTION:Was steckt hinter dem aktuellen Volksentscheid zum Grundeinkomm
 en und welche Folgen könnte eine Einführung konkret in Hamburg-Mitte habe
 n? Im offenen Werkstattgespräch der Volt-Fraktion Hamburg-Nord gemeinsam m
 it der Initiative Hamburg testet Grundeinkommen kommen Bürger*innen\, loka
 le Akteure und Gaste Jan Gerber (Expedition Grundeinkommen e.V.) zusammen\,
  um Hintergründe zu beleuchten\, Fragen zu diskutieren und neue Perspektiv
 en für unseren Stadtteil zu entwickeln. Wir wollen gemeinsam Raum scha
LOCATION:Maria-Louisen-Straße 6\, 22301 Hamburg
URL:https://voltdeutschland.org/hamburg/veranstaltungen/nord-werkstattgespr
 aech-hamburg-testet-grundeinkommen
END:VEVENT
END:VCALENDAR
